BEGIN:VCALENDAR
VERSION:2.0
PRODID:-//LaCASU - ECPv5.6.0//NONSGML v1.0//EN
CALSCALE:GREGORIAN
METHOD:PUBLISH
X-WR-CALNAME:LaCASU
X-ORIGINAL-URL:https://lacasu.regents.la.gov
X-WR-CALDESC:Events for LaCASU
BEGIN:VTIMEZONE
TZID:America/Chicago
BEGIN:DAYLIGHT
TZOFFSETFROM:-0600
TZOFFSETTO:-0500
TZNAME:CDT
DTSTART:20180311T080000
END:DAYLIGHT
BEGIN:STANDARD
TZOFFSETFROM:-0500
TZOFFSETTO:-0600
TZNAME:CST
DTSTART:20181104T070000
END:STANDARD
END:VTIMEZONE
BEGIN:VEVENT
DTSTART;TZID=America/Chicago:20180906T100000
DTEND;TZID=America/Chicago:20180906T120000
DTSTAMP:20210507T154355
CREATED:20180808T161210Z
LAST-MODIFIED:20180808T161210Z
UID:1140-1536228000-1536235200@lacasu.regents.la.gov
SUMMARY:Individual Institution Training: University of New Orleans
DESCRIPTION:Drug Free Schools and Campuses Act (DFSCA) Training.
URL:https://lacasu.regents.la.gov/event/individual-institution-training-university-of-new-orleans/
LOCATION:University of New Orleans\, 2000 Lakeshore Dr.\, New Orleans\, 70148
END:VEVENT
END:VCALENDAR